<?xml version='1.0' encoding='utf-8'?>
<metadata>
 <idinfo>
  <citation>
   <citeinfo>
    <origin>
     Bridget Marcotte, The Sanborn Map Company
    </origin>
    <pubdate>
     20190725
    </pubdate>
    <title>
     Orthoimagery-82501635-6.tif
    </title>
    <geoform>
     Final
    </geoform>
    <othercit>
     remote-sensing image
    </othercit>
   </citeinfo>
  </citation>
  <descript>
   <abstract>
    This data is a collection of orthorectified aerial imagery. The orthorectified imagery was delivered in uncompressed tiled 8-bit GeoTIFF format (4band RGBCIR) and compressed (MrSID 15:1 and 50:1). The data was produced at the request of the consortium of (9) Counties within Mississippi (MS ORTHO 2019) by The Sanborn Map Company of Colorado Springs. This orthorectified imagery has a pixel resolution of 0.5'. The data was collected in March of 2019 using an UltraCam Eagle camera. This data is within the Mississippi State Plane Coordinate System, East Zone, Datum of NAD83 (2011) and is in US Survey Feet.
   </abstract>
   <purpose>
    Rectified orthoimagery for the use of the MS Ortho 2019 participants. An orthoimage is useful as a layer of any geographic information system (GIS). It can function as a cartographic base for displaying, generating, and modifying associated digital planimetric data. Other applications include environmental impact assessments, disaster management, emergency evacuation planning, flood analysis, soil erosion assessment, facility management, ground-water and watershed analysis, right of way and road alignment, transportation network inventory and analysis, preliminary design studies, vegetation classification detection of physical features or attributes not possible at ground level, and a myriad of additional applications.
   </purpose>
  </descript>
  <timeperd>
   <timeinfo>
    <rngdates>
     <begdate>
      20190306
     </begdate>
     <enddate>
      20190726
     </enddate>
    </rngdates>
   </timeinfo>
   <current>
    Regions defined by MSOrtho 2019
   </current>
  </timeperd>
  <status>
   <progress>
    Complete
   </progress>
   <update>
    None planned
   </update>
  </status>
  <spdom>
   <bounding>
    <westbc>
     -89.3587224553
    </westbc>
    <eastbc>
     -89.3423092441
    </eastbc>
    <northbc>
     34.0072936054
    </northbc>
    <southbc>
     33.993484763
    </southbc>
   </bounding>
  </spdom>
  <keywords>
   <theme>
    <themekt>
     ISO 19115 Topic Category
    </themekt>
    <themekey>
     imageryBaseMapsEarthCover
    </themekey>
   </theme>
   <theme>
    <themekt>
     None
    </themekt>
    <themekey>
     Orthoimagery
    </themekey>
    <themekey>
     Orthophotography
    </themekey>
    <themekey>
     Photography
    </themekey>
    <themekey>
     Imagery
    </themekey>
    <themekey>
     Ortho
    </themekey>
   </theme>
   <place>
    <placekt>
     None
    </placekt>
    <placekey>
     Calhoun County
    </placekey>
    <placekey>
     Mississippi
    </placekey>
   </place>
  </keywords>
  <accconst>
   This data may be used by the requested party for stated purposes and should not be re-distributed.
  </accconst>
  <useconst>
   This data is meant for use by participants of the MS 2019 Ortho. This Data cannot be used without the express, written consent of the MS 2019 Ortho.
  </useconst>
  <ptcontac>
   <cntinfo>
    <cntorgp>
     <cntorg>
      Calhoun County
     </cntorg>
     <cntper>
      Bill Malone
     </cntper>
    </cntorgp>
    <cntpos>
     Tax Collector/assessor
    </cntpos>
    <cntaddr>
     <addrtype>
      Mailing and Physical
     </addrtype>
     <address>
      103 W. Main St.
     </address>
     <city>
      Pittsboro
     </city>
     <state>
      MS
     </state>
     <postal>
      38951
     </postal>
     <country>
      USA
     </country>
    </cntaddr>
    <cntvoice>
     662-412-3140
    </cntvoice>
    <cntemail>
     bmalone@calhouncoms.com
    </cntemail>
   </cntinfo>
  </ptcontac>
  <datacred>
   MS Ortho 2019
  </datacred>
  <native>
   Microsoft Windows 7 Version 6.1 (Build 7601) Service Pack 1; Esri ArcGIS 10.2.1.3549
  </native>
 </idinfo>
 <dataqual>
  <attracc>
   <attraccr>
    N/A
   </attraccr>
   <qattracc>
    <attraccv>
     N/A
    </attraccv>
    <attracce>
     Digital orthoimagery does not contain inherent attribution.
    </attracce>
   </qattracc>
  </attracc>
  <logic>
   The digital imagery for each acquisition sortie is differentially rectified to produce orthophotography at a resolution of 6in. Once the imagery has passed quality control review, final radiometric adjustments are performed to create a uniform overall appearance. The process is overseen by a ASPRS Certified Photogrammetrist (CP). The CP overseeing production at Sanborn is Doug Zehr.
  </logic>
  <complete>
   The ortho image tiles are checked for missing pixels, gaps, overlaps and other anomalies generally associated with digital orthophoto products. Any discrepancies in the ortho tiles are resolved through the use of proprietary and industry editing tools. Once the images are copied to the deliverable media they are further checked for naming, image completeness, and ability to be loaded in ArcMap.
  </complete>
  <posacc>
   <horizpa>
    <horizpar>
     Horizontal accuracy is based on ground control and digital elevation model data provided by Sanborn Map Company that was used in the production of the digital orthoimagery.
    </horizpar>
   </horizpa>
   <vertacc>
    <vertaccr>
     N/A
    </vertaccr>
   </vertacc>
  </posacc>
  <lineage>
   <srcinfo>
    <srccite>
     <citeinfo>
      <origin>
       The Sanborn Mapping Company, Inc.
      </origin>
      <pubdate>
       20160101
      </pubdate>
      <title>
       Aerial Photography
      </title>
      <geoform>
       remote-sensing image
      </geoform>
     </citeinfo>
    </srccite>
    <typesrc>
     None
    </typesrc>
    <srctime>
     <timeinfo>
      <rngdates>
       <begdate>
        20190307
       </begdate>
       <enddate>
        20190130
       </enddate>
      </rngdates>
     </timeinfo>
     <srccurr>
      ground condition
     </srccurr>
    </srctime>
    <srccitea>
     IMG
    </srccitea>
    <srccontr>
     The aerial imagery was captured with an UltraCam Eagle digital camera. The Eagle is a full frame digital camera system. The aerial images are used to AT the project and the production of orthophotos.
    </srccontr>
   </srcinfo>
   <procstep>
    <procdesc>
     The digital aerial imagery was transferred from the UCEcamera to a Mass Storage Unit (MSU) and shipped to Sanborn's main facility in Colorado Springs. Once downloaded, Data is processed via Micorsoft ultramap software from the raw camera format to a 4-band unsharpened color image and a pan image. An application is executed that outputs the mid-exposure pulse for each image. At this point a POS file is processed photo files as input to the Aerial Triangulation process. Raw camera data files are archived on LTO3 tapes. The imagery is processed using UltraMap processing software to create a 4-band multispectural (RGBN) format. The images are archived (on LTO3 tapes) and removed from system when orthophotography production has been completed.
    </procdesc>
    <procdate>
     20190307
    </procdate>
   </procstep>
   <procstep>
    <procdesc>
     New digital, color aerial imagery of the site is acquired using Microsoft UltraCAM Eagle aerial camera systems. Airborne GPS/IMU data is recorded along with the imagery.
    </procdesc>
    <procdate>
     20190307
    </procdate>
    <proccont>
     <cntinfo>
      <cntorgp>
       <cntorg>
        The Sanborn Map Company, Inc.
       </cntorg>
       <cntper>
        Bridget Marcotte
       </cntper>
      </cntorgp>
      <cntpos>
       Program Manager
      </cntpos>
      <cntaddr>
       <addrtype>
        Mailing and Physical
       </addrtype>
       <address>
        1935 Jamboree Dr #100
       </address>
       <city>
        Colorado Springs
       </city>
       <state>
        CO
       </state>
       <postal>
        80920
       </postal>
       <country>
        US
       </country>
      </cntaddr>
      <cntvoice>
       719-244-2311
      </cntvoice>
      <cntemail>
       bmarcotte@sanborn.com
      </cntemail>
     </cntinfo>
    </proccont>
   </procstep>
   <procstep>
    <procdesc>
     The digital elevation model (DEM) data was partly provided by DRCOG and partly provided by Sanborn, for the purpose of rectification of the imagery. LiDAR and autocorrelated surface was used. The DEM is updated where needed to support accurate rectification of the orthoimagery.
    </procdesc>
    <procdate>
     20190320
    </procdate>
   </procstep>
   <procstep>
    <procdesc>
     Softcopy (Digital) Aerotriangulation: This task involved the densification of ground control points, measurement of photo coordinates, computation and block adjustment to solve for exterior orientation parameters of individual photographs necessary for ortho-rectification. New ground control locations surveyed by the Sanborn map company; a combination of photo-identical points and targeted points were used. The ground control points were measured in a fully digital environment using softcopy stereoplotters and tie point and passpoints automatically generated. Analytical aerotriangulation computations and adjustment were done using Inpho Match-AT software, which is capable of performing bundle block adjustments using a rigorous least squares analysis, and possesses error detection and removal facilities. Systematic error corrections for lens distortion, earth curvature, and atmospheric refraction. State-of-the-art software with highly sophisticated error-detection routines was used to perform the computation and bundle block adjustment. Trained aerial triangulation specialist analyzed both numerical printouts and graphical error vector output display to detect gaps or holes in the block due to missing tie points, pass points or ground control.
    </procdesc>
    <procdate>
     20190320
    </procdate>
   </procstep>
   <procstep>
    <procdesc>
     Orthorectification: This task involved orthorectification of the raw digital raster images that were created from processing of Micorsoft Ultracam Eagle digital camera data. A number of image processing techniques were used to maximize the quality of the deliverable images. Digital orthoimagery was created by draping the un-rectified raster images over their corresponding digital terrain models. All relief displacement was removed from the raw image files at ground level on a pixel-by-pixel basis using mathamatical pixel manipulation and seams, yielding a set of orthorectified digital photo images. Mosaicking was performed to ensure a perfect edge match between all orthoimage tiles. Seam lines were generated automatically and manually manipulated where necessary to ensure that no image flaws result from seam lines passing through tall structures. Seamline calculations bring in radiometric values of the pixels that are used first and then the terrain is brought into the equation. The software uses the radiometric values to go around cars and buildings the best it can. If the software detects a substantial change in the surface (like steep hills to cliffs), the software will try to compensate with another image, to avoid smearing of the imagery. If the seams would not compensate for the surface change, it would create a smear or the hillside would be more stretched than it should be. There will be on occasion patches of seams hiding these terrain changes. All orthoimagery tiles were generated butt joints, no overlaps nor gaps. Radiometric adjustment was performed to balance and match color tones, brightness and contrast of the imagery over the whole project. Color orthoimagery were produced 8-bit per channel, resulting in 8-bit RGBN, .tif/.tfw format with a pixel size of 0.5ft.
    </procdesc>
    <procdate>
     20190401
    </procdate>
   </procstep>
   <procstep>
    <procdesc>
     Metadata updated/imported
    </procdesc>
    <procdate>
     20190723
    </procdate>
   </procstep>
   <procstep>
    <procdesc>
     Quality Control All orthophoto tiles were thoroughly inspected according to Sanborn QA/QC quality control procedures. Comprehensive visual inspection included looking for mosaicking, image smearing and color balancing across the entire project. The process is overseen by a ASPRS Certified Photogrammetrist. The CP Overseeing production at Sanborn is Doug Zehr.
    </procdesc>
    <procdate>
     20190723
    </procdate>
   </procstep>
  </lineage>
 </dataqual>
 <spdoinfo>
  <direct>
   Raster
  </direct>
  <rastinfo>
   <rasttype>
    Grid Cell
   </rasttype>
   <rowcount>
    10000
   </rowcount>
   <colcount>
    10000
   </colcount>
   <vrtcount>
    4
   </vrtcount>
  </rastinfo>
 </spdoinfo>
 <spref>
  <horizsys>
   <planar>
    <gridsys>
     <gridsysn>
      State Plane Coordinate System 1983
     </gridsysn>
     <spcs>
      <spcszone>
       2301
      </spcszone>
      <transmer>
       <sfctrmer>
        0.99995
       </sfctrmer>
       <longcm>
        -88.83333333333333
       </longcm>
       <latprjo>
        29.5
       </latprjo>
       <feast>
        984250.0
       </feast>
       <fnorth>
        0.0
       </fnorth>
      </transmer>
     </spcs>
    </gridsys>
    <planci>
     <plance>
      row and column
     </plance>
     <coordrep>
      <absres>
       0.5
      </absres>
      <ordres>
       0.5
      </ordres>
     </coordrep>
     <plandu>
      survey feet
     </plandu>
    </planci>
   </planar>
   <geodetic>
    <horizdn>
     NAD83_National_Spatial_Reference_System_2011
    </horizdn>
    <ellips>
     GRS 1980
    </ellips>
    <semiaxis>
     6378137.0
    </semiaxis>
    <denflat>
     298.2572221010042
    </denflat>
   </geodetic>
  </horizsys>
 </spref>
 <eainfo>
  <overview>
   <eaover>
    Color orthophotos are comprised of pixels. Each pixel is assigned a value of 0 to 255. That number will refer to a color look-up table which contains red, green and blue (RGB) values, each from 0 to 255, for that pixel within the image.
   </eaover>
   <eadetcit>
    None
   </eadetcit>
  </overview>
 </eainfo>
 <distinfo>
  <distrib>
   <cntinfo>
    <cntorgp>
     <cntorg>
      Calhoun County
     </cntorg>
     <cntper>
      Bill Malone
     </cntper>
    </cntorgp>
    <cntpos>
     Tax Collector/assessor
    </cntpos>
    <cntaddr>
     <addrtype>
      Mailing and Physical
     </addrtype>
     <address>
      103 W. Main St.
     </address>
     <city>
      Pittsboro
     </city>
     <state>
      MS
     </state>
     <postal>
      38951
     </postal>
     <country>
      USA
     </country>
    </cntaddr>
    <cntvoice>
     662-412-3140
    </cntvoice>
    <cntemail>
     bmalone@calhouncoms.com
    </cntemail>
   </cntinfo>
  </distrib>
  <distliab>
   None
  </distliab>
 </distinfo>
 <metainfo>
  <metd>
   20190726
  </metd>
  <metc>
   <cntinfo>
    <cntorgp>
     <cntorg>
      The Sanborn Mapping Co., Inc.
     </cntorg>
     <cntper>
      Bridget Marcotte
     </cntper>
    </cntorgp>
    <cntpos>
     Project Manager
    </cntpos>
    <cntaddr>
     <addrtype>
      Mailing
     </addrtype>
     <address>
      1935 Jamboree Drive, Suite 100
     </address>
     <city>
      Colorado Springs
     </city>
     <state>
      CO
     </state>
     <postal>
      80920-5358
     </postal>
    </cntaddr>
    <cntvoice>
     719-244-2311
    </cntvoice>
    <cntemail>
     bmarcotte@sanborn.com
    </cntemail>
   </cntinfo>
  </metc>
  <metstdn>
   FGDC Content Standard for Digital Geospatial Metadata
  </metstdn>
  <metstdv>
   FGDC-STD-001-1998
  </metstdv>
  <mettc>
   local time
  </mettc>
  <metuc>
   This data is meant for use by requested parties. This data cannot be used without express consent.
  </metuc>
 </metainfo>
</metadata>
